BEGIN:VCALENDAR
VERSION:2.0
PRODID:-//konzertN.de//konzertN//DE
CALSCALE:GREGORIAN
METHOD:REQUEST
BEGIN:VEVENT
UID:c6f798b844366ccd65d99bc7f31e0e02@konzertn.de
DTSTAMP:20260416T223013Z
STATUS:CONFIRMED
SEQUENCE:0
LAST-MODIFIED:20260416T223013
CREATED:20260416T223013
DTSTART:20261107T190000
DTEND:20261107T233000
SUMMARY:Way to Catharsis -Insight δύο- (Konzert)
LOCATION:Suhl - Die Zwecke
GEO:50.600438552143;10.594588355537
DESCRIPTION:Konzert\n\nEinlass: 18:00 Uhr\nTotal Hate\, Thronecult\, Thromo
 s\, Ylmgard
URL;VALUE=URI:http://konzertn.de/events/suhl-2026-11-07-way-to-catharsis-in
 sight
END:VEVENT
END:VCALENDAR
