BEGIN:VCALENDAR
VERSION:2.0
PRODID:-//konzertN.de//konzertN//DE
CALSCALE:GREGORIAN
METHOD:REQUEST
BEGIN:VEVENT
UID:2a0f97f81755e2878b264adf39cba68e@konzertn.de
DTSTAMP:20251215T185946Z
STATUS:CONFIRMED
SEQUENCE:10
LAST-MODIFIED:20251215T185946
CREATED:20250702T110838
DTSTART:20260625T160000
DTEND:20260628T003000
SUMMARY:Hole In The Svn Festival 2026 (Festival)
LOCATION:Rauschenberg - Grillplatz
GEO:50.890600025876;8.9190556309466
DESCRIPTION:Festival\n\nEinlass: 15:00 Uhr\nMisþyrming\, Darvaza\, Bewitch
 ed\, Winterfylleth\, Bythos\, Grave Miasma\, Adorior\, Mephorash\, Caronte
 \, Misotheist\, Sektarism\, Whiskey Ritual\, Inferno\, Malakhim\, Antivers
 um\, Sépulcre\, Light of the Morning Star\, Profanation\, Nihilvm\, Necro
 racle\, Trogne\, Dim Aura\, Sacris ritus Vermes\, Hæksenhamer
URL;VALUE=URI:http://konzertn.de/events/rauschenberg-2026-06-25-hole-in-the
 -svn-festival-2026
END:VEVENT
END:VCALENDAR
