BEGIN:VCALENDAR
VERSION:2.0
PRODID:-//konzertN.de//konzertN//DE
CALSCALE:GREGORIAN
METHOD:REQUEST
BEGIN:VEVENT
UID:2ecd2bd94734e5dd392d8678bc64cdab@konzertn.de
DTSTAMP:20251213T201948Z
STATUS:CONFIRMED
SEQUENCE:15
LAST-MODIFIED:20251213T201948
CREATED:20251016T192844
DTSTART:20260529T180000
DTEND:20260531T020000
SUMMARY:Teifljågd Open Air 2026 (Festival)
LOCATION:Piberstein - Burg Piberstein
GEO:48.530280519354;14.155792359673
DESCRIPTION:Festival\n\nEinlass: 17:00 Uhr\nSchammasch\, Fen\, Grá\, Hail 
 Spirit Noir\, Esoteric\, Nornir\, Malthusian\, Zatokrev\, Mýrdal\, Bohemy
 st\, Ellereve\, Regnum Noricum\, Sarcastic Terror
URL;VALUE=URI:http://konzertn.de/events/piberstein-2026-05-29-teiflj-gd-ope
 n-air-2026
END:VEVENT
END:VCALENDAR
