BEGIN:VCALENDAR
VERSION:2.0
PRODID:-//konzertN.de//konzertN//DE
CALSCALE:GREGORIAN
METHOD:REQUEST
BEGIN:VEVENT
UID:24ec8468b67314c2013d215b77034476@konzertn.de
DTSTAMP:20260313T002052Z
STATUS:CONFIRMED
SEQUENCE:7
LAST-MODIFIED:20260313T002052
CREATED:20251201T025736
DTSTART:20260605T160000
DTEND:20260607T003000
SUMMARY:Sturmes Reigen 2026 (Festival)
LOCATION:Neustadt an der Orla - Wotufa Saal
GEO:50.7320446;11.7453673
DESCRIPTION:Festival\n\nEinlass: 15:30 Uhr\nArjen\, Nefandus\, Prosternatur
 \, Ebony Pendant\, Marras\, Omegaeternum\, Oerheks\, Nagyszeben\, Sulphuri
 c Night\, Nordlys\, Faceless Entity\, Kôr\, Stiriah\, Vivus Humare
URL;VALUE=URI:http://konzertn.de/events/neustadt-an-der-orla-2026-06-05-stu
 rmes-reigen-2026
END:VEVENT
END:VCALENDAR
