BEGIN:VCALENDAR
VERSION:2.0
PRODID:-//konzertN.de//konzertN//DE
CALSCALE:GREGORIAN
METHOD:REQUEST
BEGIN:VEVENT
UID:20125fd9b2d43e340a35fb0278da235d@konzertn.de
DTSTAMP:20260416T221113Z
STATUS:CONFIRMED
SEQUENCE:1
LAST-MODIFIED:20260416T221113
CREATED:20260416T214936
DTSTART:20261114T163000
DTEND:20261114T230000
SUMMARY:Death Dominion Festival Leipzig 2026 (Konzert)
LOCATION:Leipzig - Felsenkeller
GEO:51.332581;12.338436
DESCRIPTION:Konzert\n\nEinlass: 16:00 Uhr\nCarnifex\, Despised Icon\, Suffo
 cation\, Gates of Hell\, Stillbirth\, Sun Eater\, Dogbite
URL;VALUE=URI:http://konzertn.de/events/leipzig-2026-11-14-death-dominion-f
 estival-leipzig-2026
END:VEVENT
END:VCALENDAR
