BEGIN:VCALENDAR
VERSION:2.0
PRODID:-//konzertN.de//konzertN//DE
CALSCALE:GREGORIAN
METHOD:REQUEST
BEGIN:VEVENT
UID:79514e888b8f2acacc68738d0cbb803e@konzertn.de
DTSTAMP:20260321T155622Z
STATUS:CONFIRMED
SEQUENCE:1
LAST-MODIFIED:20260321T155622
CREATED:20260113T192748
DTSTART:20260710T160000
DTEND:20260712T080000
SUMMARY:MUR Open Air 2026 (Festival)
LOCATION:Königsee-Rottenbach - Zum Gebörne
GEO:50.649421475558;11.069306481958
DESCRIPTION:Festival\n\nEinlass: 15:00 Uhr\nAgathodaimon\, BRUTE\, Drunkens
 tein\, Endseeker\, Fateful Finality\, Gernotshagen\, Irony Of Fate\, Leide
 n\, Mandragora Titania\, Morbus Dei\, Prophets Of The Rising Dead\, Psycro
 tted\, Rise of Kronos\, Teeth Of Lamb
URL;VALUE=URI:http://konzertn.de/events/koenigsee-rottenbach-2026-07-10-mur
 -open-air-2026
END:VEVENT
END:VCALENDAR
