BEGIN:VCALENDAR
VERSION:2.0
PRODID:-//konzertN.de//konzertN//DE
CALSCALE:GREGORIAN
METHOD:REQUEST
BEGIN:VEVENT
UID:dab49080d80c724aad5ebf158d63df41@konzertn.de
DTSTAMP:20260415T200117Z
STATUS:CONFIRMED
SEQUENCE:0
LAST-MODIFIED:20260415T200117
CREATED:20260415T200117
DTSTART:20261114T180000
DTEND:20261114T230000
SUMMARY:Archspire - Live in Jena 2026 (Konzert)
LOCATION:Jena - F-Haus
GEO:50.9294463;11.5818531
DESCRIPTION:Konzert\n\nEinlass: 17:30 Uhr\nArchspire\, Crown Magnetar\, The
  Zenith Passage\, Analepsy
URL;VALUE=URI:http://konzertn.de/events/jena-2026-11-14-archspire-live-in-j
 ena-2026
END:VEVENT
END:VCALENDAR
