BEGIN:VCALENDAR
VERSION:2.0
PRODID:-//konzertN.de//konzertN//DE
CALSCALE:GREGORIAN
METHOD:REQUEST
BEGIN:VEVENT
UID:8a50bae297807da9e97722a0b3fd8f27@konzertn.de
DTSTAMP:20260109T121524Z
STATUS:CONFIRMED
SEQUENCE:0
LAST-MODIFIED:20260109T121524
CREATED:20260109T121524
DTSTART:20260523T200000
DTEND:20260523T233000
SUMMARY:Schanzer Death March (Konzert)
LOCATION:Ingolstadt - Musikkneipe Diagonal
GEO:
DESCRIPTION:Konzert\n\nEinlass: 19:30 Uhr\nDark Indication\, Rotting Empire
 \, Stillborn Soiled\, AnomiC
URL;VALUE=URI:http://konzertn.de/events/ingolstadt-2026-05-23-schanzer-deat
 h-march
END:VEVENT
END:VCALENDAR
