BEGIN:VCALENDAR
VERSION:2.0
PRODID:-//konzertN.de//konzertN//DE
CALSCALE:GREGORIAN
METHOD:REQUEST
BEGIN:VEVENT
UID:3f4366aeb9c157cf9a30c90693eafc55@konzertn.de
DTSTAMP:20260109T183005Z
STATUS:CONFIRMED
SEQUENCE:1
LAST-MODIFIED:20260109T183005
CREATED:20251121T131857
DTSTART:20260904T130000
DTEND:20260906T020000
SUMMARY:Meh Suff! Metal-Festival 2026 (Festival)
LOCATION:Hüttikon - Hüttikerberg
GEO:47.4373;8.38725
DESCRIPTION:Festival\n\nEinlass: 12:00 Uhr\nDark Tranquillity\, Benediction
 \, Wolfheart\, Demolition Hammer\, Lamp Of Murmuur\, Saor\, Brymir\, Lucif
 er's Child\, Hurakan\, Tyrmfar
URL;VALUE=URI:http://konzertn.de/events/huettikon-2026-09-04-meh-suff-metal
 -festival-2026
END:VEVENT
END:VCALENDAR
