BEGIN:VCALENDAR
VERSION:2.0
PRODID:-//konzertN.de//konzertN//DE
CALSCALE:GREGORIAN
METHOD:REQUEST
BEGIN:VEVENT
UID:4b21cf96d4cf612f239a6c322b10c8fe@konzertn.de
DTSTAMP:20260419T115022Z
STATUS:CONFIRMED
SEQUENCE:18
LAST-MODIFIED:20260419T115022
CREATED:20250630T170419
DTSTART:20260612T150000
DTEND:20260614T010000
SUMMARY:Chronical Moshers Open Air 2026 (Festival)
LOCATION:Hauptmannsgrün - Chronical Moshers e.V.
GEO:50.624951;12.3978835
DESCRIPTION:Festival\n\nEinlass: 10:00 Uhr\nPsycrotted\, Fateful Finality\,
  Yoth Iria\, Berzerker Legion\, Hellripper\, Hellbutcher\, Nargaroth\, And
 ras\, Granitader\, Lead Injector\, Commander\, Vulture\, Facebreaker\, Nig
 ht in Gales\, Svarttjern\, Legion Of The Damned\, Primordial\, Rotting Chr
 ist\, Still Slayer
URL;VALUE=URI:http://konzertn.de/events/hauptmannsgruen-2026-06-12-chronica
 l-moshers-open-air-2026
END:VEVENT
END:VCALENDAR
