BEGIN:VCALENDAR
VERSION:2.0
PRODID:-//konzertN.de//konzertN//DE
CALSCALE:GREGORIAN
METHOD:REQUEST
BEGIN:VEVENT
UID:4a533591763dfa743a13affab1a85793@konzertn.de
DTSTAMP:20260421T192945Z
STATUS:CONFIRMED
SEQUENCE:1
LAST-MODIFIED:20260421T192945
CREATED:20260421T192030
DTSTART:20260730T190000
DTEND:20260802T020000
SUMMARY:Burgbrand Open Air 2026 (Festival)
LOCATION:Gerstungen - Burgruine Brandenburg
GEO:50.995415964685;10.165868667733
DESCRIPTION:Festival\n\nEinlass: 18:00 Uhr\nSOS BROjekt\, Cöver Löver\, B
 rumm Brumm Boese\, Caroozer\, Bitter Price\, Antipeewee\, Ophis\, Depressi
 ve Age\, Bronze Band\, Mortuary Nightmare\, ORB\, Catbreath\, Motorowl\, T
 yran\, Gorilla Monsoon\, Insanity Alert\, Samavayo
URL;VALUE=URI:http://konzertn.de/events/gerstungen-2026-07-30-burgbrand-ope
 n-air-2026
END:VEVENT
END:VCALENDAR
