BEGIN:VCALENDAR
VERSION:2.0
PRODID:-//konzertN.de//konzertN//DE
CALSCALE:GREGORIAN
METHOD:REQUEST
BEGIN:VEVENT
UID:58aaee7ae94b52697ad3b9275d46ec7f@konzertn.de
DTSTAMP:20260222T171728Z
STATUS:CONFIRMED
SEQUENCE:24
LAST-MODIFIED:20260222T171728
CREATED:20250810T190723
DTSTART:20260702T180000
DTEND:20260705T010000
SUMMARY:Under The Black Sun 2026 (Festival)
LOCATION:Friesack - Freilichtbühne Friesack
GEO:52.737597;12.5906209
DESCRIPTION:Festival\n\nEinlass: 16:00 Uhr\nHelheim\, Tormentor\, Aegrus\, 
 The Black Moriah\, Uada\, Darkened Nocturn Slaughtercult\, Mavorim\, Iku-T
 urso\, Auro\, Plaguepreacher\, Kaeck\, Pestilential Shadows\, ArsGoatia\, 
 Infernal Execrator\, Frantic Aggressor\, Tulpa\, Thou Shell Of Death\, Nun
 slaughter\, Doodswens\, Dymna Lotva\, Naked Whipper\, Dim Aura\, Mellom\, 
 Seelenwinter\, The Stone\, Vel'Har
URL;VALUE=URI:http://konzertn.de/events/friesack-2026-07-02-under-the-black
 -sun-2026
END:VEVENT
END:VCALENDAR
