BEGIN:VCALENDAR
VERSION:2.0
PRODID:-//konzertN.de//konzertN//DE
CALSCALE:GREGORIAN
METHOD:REQUEST
BEGIN:VEVENT
UID:c91e3483cf4f90057d02aa492d2b25b1@konzertn.de
DTSTAMP:20260112T223126Z
STATUS:CONFIRMED
SEQUENCE:0
LAST-MODIFIED:20260112T223125
CREATED:20260112T223125
DTSTART:20260905T130000
DTEND:20260905T234500
SUMMARY:Summa Wies 2026 (Festival)
LOCATION:Ering - Hundesportplatz
GEO:48.297915844184;13.163524473624
DESCRIPTION:Festival\n\nEinlass: 11:30 Uhr\nHackneyed\, Waldgeflüster\, Wo
 rds of Farewell\, Distaste\, Collapsed Minds\, Zodiac Ass\, Outrage\, Sare
 pta\, Also Am I\, Spitter\, Blaskapelle Kößlarn
URL;VALUE=URI:http://konzertn.de/events/ering-2026-09-05-summa-wies-2026
END:VEVENT
END:VCALENDAR
