BEGIN:VCALENDAR
VERSION:2.0
PRODID:-//konzertN.de//konzertN//DE
CALSCALE:GREGORIAN
METHOD:REQUEST
BEGIN:VEVENT
UID:38ed162a0dbef7b3fe0f628aa08b90e7@konzertn.de
DTSTAMP:20251215T193624Z
STATUS:CONFIRMED
SEQUENCE:4
LAST-MODIFIED:20251215T193624
CREATED:20251018T202644
DTSTART:20261010T160000
DTEND:20261011T010000
SUMMARY:Madness over Thuringia III (Festival)
LOCATION:Erfurt - From Hell
GEO:50.973632;10.954189
DESCRIPTION:Festival\n\nEinlass: 15:30 Uhr\nDrudensang\, Sarkrista\, Tsatth
 oggua\, Totenwache\, Hats Barn\, Mortem Agmen\, Rotting Demise\, Vel'Har
URL;VALUE=URI:http://konzertn.de/events/erfurt-2026-10-10-madness-over-thur
 ingia-iii
END:VEVENT
END:VCALENDAR
