BEGIN:VCALENDAR
VERSION:2.0
PRODID:-//konzertN.de//konzertN//DE
CALSCALE:GREGORIAN
METHOD:REQUEST
BEGIN:VEVENT
UID:643de7cf7ba769c7466ccbc4adfd7fac@konzertn.de
DTSTAMP:20260421T205716Z
STATUS:CONFIRMED
SEQUENCE:2
LAST-MODIFIED:20260421T205716
CREATED:20260421T205425
DTSTART:20260501T190000
DTEND:20260501T235000
SUMMARY:Istapp w/ Moor & Invoker & Part of the Anima (Konzert)
LOCATION:Erfurt - From Hell
GEO:50.973632;10.954189
DESCRIPTION:Konzert\n\nEinlass: 18:30 Uhr\nIstapp\, Moor\, Invoker\, Part o
 f the Anima
URL;VALUE=URI:http://konzertn.de/events/erfurt-2026-05-01-istapp-w-moor-inv
 oker-part-of-the-anima
END:VEVENT
END:VCALENDAR
