BEGIN:VCALENDAR
VERSION:2.0
PRODID:-//konzertN.de//konzertN//DE
CALSCALE:GREGORIAN
METHOD:REQUEST
BEGIN:VEVENT
UID:2b323d6eb28422cef49b266557dd31ad@konzertn.de
DTSTAMP:20260410T021646Z
STATUS:CONFIRMED
SEQUENCE:2
LAST-MODIFIED:20260410T021645
CREATED:20260114T204507
DTSTART:20260502T180000
DTEND:20260502T230000
SUMMARY:Kellergeträller Vol. 4 (Konzert)
LOCATION:Dorfen - E3 Eiskeller
GEO:48.275329127034;12.149853972629
DESCRIPTION:Konzert\n\nEinlass: 17:30 Uhr\nDiscreation\, Zodiac Ass\, Death
  in Fiction\, A Rising Chapter
URL;VALUE=URI:http://konzertn.de/events/dorfen-2026-05-02-kellergetraeller-
 vol-4
END:VEVENT
END:VCALENDAR
