BEGIN:VCALENDAR
VERSION:2.0
PRODID:-//konzertN.de//konzertN//DE
CALSCALE:GREGORIAN
METHOD:REQUEST
BEGIN:VEVENT
UID:57f04bb2975420e3b4c73920c687cad7@konzertn.de
DTSTAMP:20260410T015451Z
STATUS:CONFIRMED
SEQUENCE:0
LAST-MODIFIED:20260410T015451
CREATED:20260410T015451
DTSTART:20260827T200000
DTEND:20260827T230000
SUMMARY:Lamp of Murmuur w/ Outlaw (Konzert)
LOCATION:Burglengenfeld - VAZ Pfarrheim
GEO:49.204352330136;12.03908304282
DESCRIPTION:Konzert\n\nEinlass: 19:00 Uhr\nLamp Of Murmuur\, Outlaw
URL;VALUE=URI:http://konzertn.de/events/burglengenfeld-2026-08-27-lamp-of-m
 urmuur-w-outlaw
END:VEVENT
END:VCALENDAR
