BEGIN:VCALENDAR
VERSION:2.0
PRODID:-//konzertN.de//konzertN//DE
CALSCALE:GREGORIAN
METHOD:REQUEST
BEGIN:VEVENT
UID:731ae30af8750c2d28720ea3c1f8c2b1@konzertn.de
DTSTAMP:20260312T195042Z
STATUS:CONFIRMED
SEQUENCE:3
LAST-MODIFIED:20260312T195042
CREATED:20251129T170247
DTSTART:20260814T143000
DTEND:20260816T013000
SUMMARY:Barther Metal Open Air 2026 (Festival)
LOCATION:Barth - Freilichtbühne Barth
GEO:54.35875;12.726867
DESCRIPTION:Festival\n\nEinlass: 08:00 Uhr\nKroda\, Arkona\, Ljå\, Severot
 h\, Gernotshagen\, Krater\, Asarhaddon\, Autumn Nostalgie\, Lömsk\, Sur A
 ustru\, Runenwacht\, Gjallar - a tribute to Falkenbach\, Brzask\, Wintarna
 ht\, Frantic Aggressor\, ainzamkait\, Jarl\, Dödsdrift
URL;VALUE=URI:http://konzertn.de/events/barth-2026-08-14-barther-metal-open
 -air-2026
END:VEVENT
END:VCALENDAR
